BEGIN:VCALENDAR
CALSCALE:GREGORIAN
X-WR-TIMEZONE;VALUE=TEXT:GMT
PRODID:PEAK Corporation - piCal -
X-WR-CALNAME;VALUE=TEXT:金森サンセットマーケット
VERSION:2.0
METHOD:PUBLISH
BEGIN:VTIMEZONE
TZID:GMT
BEGIN:STANDARD
DTSTART:19390101T000000
TZOFFSETFROM:+0000
TZOFFSETTO:+0000
TZNAME:GMT
END:STANDARD
END:VTIMEZONE
BEGIN:VEVENT
DTSTART:20100807T060000Z
DTEND:20100807T110000Z
LOCATION:
TRANSP:OPAQUE
SEQUENCE:3
UID:pical060-897a78a4f0915a62491e676c30e71cb8
DTSTAMP:20100722T000101Z
CATEGORIES:演奏会,お祭り等のイベント,即売会,バザー,フリマ
DESCRIPTION:　\n<b><span style="font-size: medium;">金森サンセットマーケット</span></b>\n\n\n■日時／2010年8月7日（土）　15:00～19:00 or 20:00\n\n■会場／<a href="http://local.google.co.jp/maps?f=q&amp;hl=en&amp;geocode=&amp;q=%E5%87%BD%E9%A4%A8%E3%80%80%E9%87%91%E6%A3%AE%E5%80%89%E5%BA%AB&amp;sll=41.76603,140.708299&amp;sspn=0.009939,0.011888&amp;ie=UTF8&amp;ll=41.766559,140.714307&amp;spn=0.009939,0.011888&amp;z=16&amp;iwloc=A" target="_blank">金森赤レンガ倉庫</a>\n\n■詳細／<a href="http://www.hakodate-kanemori.com/event/2010/05/118.php" target="_blank">金森サンセットマーケット：イベント情報：金森赤レンガ倉庫</a>\n\n\nサンセットフリーマーケット\n野外ライブ？\n納涼ビヤガーデン？\n\n　\n　\n\n　\n　\n\n\n
SUMMARY:金森サンセットマーケット
PRIORITY:0
CLASS:PUBLIC
END:VEVENT
END:VCALENDAR
