BEGIN:VCALENDAR
CALSCALE:GREGORIAN
X-WR-TIMEZONE;VALUE=TEXT:GMT
PRODID:PEAK Corporation - piCal -
X-WR-CALNAME;VALUE=TEXT:鍋だらけ！ 冬 江差“美味百彩”なべまつり
VERSION:2.0
METHOD:PUBLISH
BEGIN:VTIMEZONE
TZID:GMT
BEGIN:STANDARD
DTSTART:19390101T000000
TZOFFSETFROM:+0000
TZOFFSETTO:+0000
TZNAME:GMT
END:STANDARD
END:VTIMEZONE
BEGIN:VEVENT
DTSTART:20140208T070000Z
DTEND:20140209T050000Z
LOCATION:
TRANSP:OPAQUE
SEQUENCE:9
UID:pical060-bdf838e1bcdcf4cd1ffea1d6ab859492
DTSTAMP:20170617T012337Z
CATEGORIES:お祭り等のイベント,即売会,バザー,フリマ
DESCRIPTION:　\n<b><span style="font-size: medium;">冬 江差“美味百彩”なべまつり</span></b>\n\n\n\n■日時／2014年2月8日（16:00～19:00）～2月9日（11:00～14:00）\n\n■会場／<a href="http://maps.google.co.jp/maps?f=q&amp;source=s_q&amp;hl=ja&amp;geocode=&amp;q=%E6%AA%9C%E5%B1%B1%E9%83%A1%E6%B1%9F%E5%B7%AE%E7%94%BA%E5%AD%97%E6%9C%AC%E7%94%BA271%E7%95%AA%E5%9C%B0&amp;sll=41.804334,140.755806&amp;sspn=0.150994,0.241699&amp;ie=UTF8&amp;ll=41.865087,140.128244&amp;spn=0.004522,0.007553&amp;z=17&amp;iwloc=addr" target="_blank">旧江差町生涯学習センター体育館</a>\n\n■詳細／<a href="http://www.esashi-kankoukyoukai.com/n1gp/n1gp-info/nabe_nittei/" target="_blank">第１４回　冬江差“美味百彩”なべまつり 　開催日程 | 江差観光コンベンション協会</a>\n\n\n■過去の様子／<a href="http://tpf.jp/modules/EventRev/details.php?bid=23" target="_blank">冬 江差“美味百彩”なべまつり - TownPathFinder</a>\n\n
SUMMARY:鍋だらけ！ 冬 江差“美味百彩”なべまつり
PRIORITY:0
CLASS:PUBLIC
END:VEVENT
END:VCALENDAR
