BEGIN:VCALENDAR
CALSCALE:GREGORIAN
X-WR-TIMEZONE;VALUE=TEXT:GMT
PRODID:PEAK Corporation - piCal -
X-WR-CALNAME;VALUE=TEXT:第27回八雲さむいべや祭り
VERSION:2.0
METHOD:PUBLISH
BEGIN:VTIMEZONE
TZID:GMT
BEGIN:STANDARD
DTSTART:19390101T000000
TZOFFSETFROM:+0000
TZOFFSETTO:+0000
TZNAME:GMT
END:STANDARD
END:VTIMEZONE
BEGIN:VEVENT
DTSTART:20140208T080000Z
DTEND:20140209T060000Z
LOCATION:
TRANSP:OPAQUE
SEQUENCE:11
UID:pical060-614ed4b398da7c689d66533a9e38a15a
DTSTAMP:20170630T141900Z
CATEGORIES:お祭り等のイベント
DESCRIPTION:　\n<b><span style="font-size: medium;">第27回八雲さむいべや祭り</span></b>\n\n\n■日時／2014年2月8日（土）～2月9日（日）　\n\n■会場／<a href="http://maps.google.co.jp/maps?f=q&amp;source=s_q&amp;hl=ja&amp;geocode=&amp;q=%E5%99%B4%E7%81%AB%E6%B9%BE%E3%83%91%E3%83%8E%E3%83%A9%E3%83%9E%E3%83%91%E3%83%BC%E3%82%AF&amp;sll=42.458927,140.405273&amp;sspn=0.597765,0.966797&amp;ie=UTF8&amp;ll=42.227496,140.31125&amp;spn=0.018749,0.030212&amp;z=15" target="_blank">道立公園噴火湾パノラマパーク</a>\n\n■詳細／<a href="http://www.town.yakumo.lg.jp/modules/syakyo/content0023.html" target="_blank">八雲町 - 八雲さむいべや祭り実行委員会</a>\n\n\n\n\n■過去の様子／<a href="http://tpf.jp/modules/EventRev/details.php?bid=24" target="_blank">イベントレビュー：八雲　さむいべや祭り</a>\n　\n\n\n
SUMMARY:第27回八雲さむいべや祭り
PRIORITY:0
CLASS:PUBLIC
END:VEVENT
END:VCALENDAR
