BEGIN:VCALENDAR
CALSCALE:GREGORIAN
X-WR-TIMEZONE;VALUE=TEXT:GMT
PRODID:PEAK Corporation - piCal -
X-WR-CALNAME;VALUE=TEXT:第14回　どすこい雪まつり
VERSION:2.0
METHOD:PUBLISH
BEGIN:VTIMEZONE
TZID:GMT
BEGIN:STANDARD
DTSTART:19390101T000000
TZOFFSETFROM:+0000
TZOFFSETTO:+0000
TZNAME:GMT
END:STANDARD
END:VTIMEZONE
BEGIN:VEVENT
DTSTART:20140202T010000Z
DTEND:20140202T030000Z
LOCATION:
TRANSP:OPAQUE
SEQUENCE:10
UID:pical060-1f61cc3f9b5efbd6fea141366d46c253
DTSTAMP:20140130T123149Z
CATEGORIES:お祭り等のイベント
DESCRIPTION:　\n<b><span style="font-size: medium;">福島町　第14回どすこい雪まつり</span></b>\n\n\n■日時／2014年2月2日（日）　10:00～12:00\n\n■会場／<a href="http://maps.google.co.jp/maps?f=q&amp;source=s_q&amp;hl=ja&amp;geocode=&amp;q=%E9%9D%92%E5%87%BD%E3%83%88%E3%83%B3%E3%83%8D%E3%83%AB%E8%A8%98%E5%BF%B5%E9%A4%A8%E3%80%80%E7%A6%8F%E5%B3%B6&amp;sll=41.447745,140.227947&amp;sspn=0.072184,0.12291&amp;ie=UTF8&amp;z=15&amp;iwloc=A" target="_blank">青函トンネル記念館　駐車場</a>\n\n■詳細／<a href="http://www.town.fukushima.hokkaido.jp/div/kankou/spot/event/yukimatsuri/yukimatsuri.html" target="_blank">北海道福島町観光協会【いぐべ!!ふくしまちょう】:どすこい雪まつり</a>\n\n\n\n■過去の様子／<a href="http://tpf.jp/modules/EventRev/details.php?bid=22" target="_blank">イベントレビュー：福島どすこい雪まつり</a>\n\n　\<a href="nhttp://www.town.fukushima.hokkaido.jp/home/townwatch/h2002/h19yukimaturi.html\n\n\n\n\n　\n\n" target="_blank">nhttp://www.town.fukushima.hokkaido.jp/home/townwatch/h2002/h19yukimaturi.html\n\n\n\n\n　\n\n</a> \n
SUMMARY:第14回　どすこい雪まつり
PRIORITY:0
CLASS:PUBLIC
END:VEVENT
END:VCALENDAR
