BEGIN:VCALENDAR
CALSCALE:GREGORIAN
X-WR-TIMEZONE;VALUE=TEXT:GMT
PRODID:PEAK Corporation - piCal -
X-WR-CALNAME;VALUE=TEXT:駒ケ岳、大沼湖水開き　安全祈願祭
VERSION:2.0
METHOD:PUBLISH
BEGIN:VTIMEZONE
TZID:GMT
BEGIN:STANDARD
DTSTART:19390101T000000
TZOFFSETFROM:+0000
TZOFFSETTO:+0000
TZNAME:GMT
END:STANDARD
END:VTIMEZONE
BEGIN:VEVENT
DTSTART:20120414T231500Z
DTEND:20120415T010000Z
LOCATION:
TRANSP:OPAQUE
SEQUENCE:4
UID:pical060-a006dea086ade38c057747983c914616
DTSTAMP:20120405T082833Z
CATEGORIES:その他
DESCRIPTION:　\n<b><span style="font-size: medium;">駒ケ岳、大沼湖水開き　安全祈願祭</span></b>\n\n■日時／2012年4月15日（日）\n　　・大沼湖水安全祈願祭　10:00～\n　　・駒ケ岳安全祈願祭　　10:30～\n\n■大沼湖水安全祈願\n　<a href="http://maps.google.co.jp/maps?f=q&amp;source=s_q&amp;hl=ja&amp;geocode=&amp;q=(41.98406604665261,+140.67322611808777)(%E9%81%8A%E8%A6%A7%E8%88%B9%E4%B9%97%E3%82%8A%E5%A0%B4)&amp;sll=41.984066,140.673226&amp;sspn=0.005662,0.009656&amp;gl=jp&amp;ie=UTF8&amp;z=16&amp;iwloc=A" target="_blank">大沼公園遊覧船乗り場</a>　9:50まで集合　（乗船無料）\n\n■駒ケ岳安全祈願祭\n　<a href="http://maps.google.co.jp/maps?f=q&amp;source=s_q&amp;hl=ja&amp;geocode=&amp;q=42.007038092399796,+140.69710850715637(%E9%A7%92%E3%82%B1%E5%B2%B3%E7%A5%9E%E7%A4%BE)&amp;sll=42.007038,140.697109&amp;sspn=0.00566,0.009656&amp;gl=jp&amp;ie=UTF8&amp;z=16&amp;iwloc=A" target="_blank">駒ケ岳神社</a>　\n\n■詳細／<a href="http://www.onuma-guide.com/osusumeblog01/2012/04/post-161.html" target="_blank">「大沼湖水開き・安全祈願祭」のお知らせ - 大沼トピックス</a>\n　\n　\n\n　\n　\n
SUMMARY:駒ケ岳、大沼湖水開き　安全祈願祭
PRIORITY:0
CLASS:PUBLIC
END:VEVENT
END:VCALENDAR
