BEGIN:VCALENDAR
CALSCALE:GREGORIAN
X-WR-TIMEZONE;VALUE=TEXT:GMT
PRODID:PEAK Corporation - piCal -
X-WR-CALNAME;VALUE=TEXT:川久保賜紀・遠藤真理・三浦友理枝トリオ　リサイタル
VERSION:2.0
METHOD:PUBLISH
BEGIN:VTIMEZONE
TZID:GMT
BEGIN:STANDARD
DTSTART:19390101T000000
TZOFFSETFROM:+0000
TZOFFSETTO:+0000
TZNAME:GMT
END:STANDARD
END:VTIMEZONE
BEGIN:VEVENT
DTSTART:20100522T093000Z
DTEND:20100522T093000Z
LOCATION:
TRANSP:OPAQUE
SEQUENCE:3
UID:pical060-ae8caf02b4eeab00a03305ef4615b77c
DTSTAMP:20100127T055756Z
CATEGORIES:チケット,整理券,音楽,芸術,文化,演奏会
DESCRIPTION:　\nリサイタル・シリーズ　①\n<b>川久保賜紀・遠藤真理・三浦友理枝トリオ　リサイタル</b>\n\n■日時／2010年5月22日（土）　18:30開演\n■会場／函館市芸術ホール\n\n<a href="http://www.google.co.jp/search?hl=ja&amp;client=firefox-a&amp;rls=org.mozilla%3Aja%3Aofficial&amp;hs=gzL&amp;q=%E5%B7%9D%E4%B9%85%E4%BF%9D%E8%B3%9C%E7%B4%80%E3%83%BB%E9%81%A0%E8%97%A4%E7%9C%9F%E7%90%86%E3%83%BB%E4%B8%89%E6%B5%A6%E5%8F%8B%E7%90%86%E6%9E%9D&amp;btnG=%E6%A4%9C%E7%B4%A2&amp;lr=lang_ja&amp;aq=f&amp;oq=" target="_blank">川久保賜紀・遠藤真理・三浦友理枝</a>\n\n---------------------------------------------------------\n\nリサイタル・シリーズ　②\n<b>森麻季　ソプラノ・リサイタル</b>\n\n■日時／2010年6月11日（金）　18:45開演\n■会場／函館市芸術ホール\n\n<a href="http://www.google.co.jp/search?hl=ja&amp;client=firefox-a&amp;rls=org.mozilla%3Aja%3Aofficial&amp;hs=Wfg&amp;q=%E6%A3%AE%E9%BA%BB%E5%AD%A3+%E3%82%BD%E3%83%97%E3%83%A9%E3%83%8E&amp;lr=lang_ja&amp;aq=1&amp;oq=%E6%A3%AE%E9%BA%BB%E5%AD%A3" target="_blank">森麻季</a>\n\n\n---------------------------------------------------------\n\nリサイタル・シリーズ　③\n<b>小山実稚恵　ピアノ・リサイタル</b>\n\n■日時／2010年7月8日（木）　18:45開演\n■会場／函館市芸術ホール\n\n<a href="http://www.google.co.jp/search?hl=ja&amp;client=firefox-a&amp;rls=org.mozilla%3Aja%3Aofficial&amp;hs=cM1&amp;q=%E5%B0%8F%E5%B1%B1%E5%AE%9F%E7%A8%9A%E6%81%B5&amp;btnG=%E6%A4%9C%E7%B4%A2&amp;lr=lang_ja&amp;aq=f&amp;oq=" target="_blank">小山実稚恵</a>\n\n\n\n---------------------------------------------------------\n\n■チケット\n\n3回シリーズ券\n2月27日（土）販売開始\n全席指定8,000円\n函館市芸術ホールにて販売\n\n各1回券\n3月27日（土）販売開始\nS席4,000円　A席3,000円　学生席2,500円　全席指定\n当日券は各500円増し\n学生券は函館市芸術ホール、函館市民会館での取り扱い\n\n　\n　\n　\n\n\n\n\n\n\n
SUMMARY:川久保賜紀・遠藤真理・三浦友理枝トリオ　リサイタル
PRIORITY:0
CLASS:PUBLIC
END:VEVENT
END:VCALENDAR
