BEGIN:VCALENDAR
CALSCALE:GREGORIAN
X-WR-TIMEZONE;VALUE=TEXT:GMT
PRODID:PEAK Corporation - piCal -
X-WR-CALNAME;VALUE=TEXT:アスベスト･じん肺･振動病･難聴　健康相談会
VERSION:2.0
METHOD:PUBLISH
BEGIN:VTIMEZONE
TZID:GMT
BEGIN:STANDARD
DTSTART:19390101T000000
TZOFFSETFROM:+0000
TZOFFSETTO:+0000
TZNAME:GMT
END:STANDARD
END:VTIMEZONE
BEGIN:VEVENT
DTSTART;VALUE=DATE:20110203
DTEND;VALUE=DATE:20110205
LOCATION:
TRANSP:OPAQUE
SEQUENCE:1
UID:pical060-c2765c0b02b334f8e6cd175c85aeaf42
DTSTAMP:20110202T035649Z
CATEGORIES:相談
DESCRIPTION:　\n\n<b><span style="font-size: medium;">アスベスト･じん肺･振動病･難聴　健康相談会</span></b>\n\n\n■主催者／働くものの道南健康共同センター　0138-22-5644\n\n労働環境により健康を害していませんか？\nアスベスト、粉じん、振動、騒音により肺がんや中皮腫、じん肺、振動障害や難聴。\n症状の原因が労働と思ったら相談しましょう。\n\n\n------------------------------\n2月3日10:00～11:30\n函館市民会館\n------------------------------\n2月3日13:00～14:30\n亀田福祉センター\n------------------------------\n2月4日13:00～14:30\nサン･リフレ函館\n------------------------------\n\n\n\n\n\n　\n\n\n\n
SUMMARY:アスベスト･じん肺･振動病･難聴　健康相談会
PRIORITY:0
CLASS:PUBLIC
END:VEVENT
END:VCALENDAR
