BEGIN:VCALENDAR
CALSCALE:GREGORIAN
X-WR-TIMEZONE;VALUE=TEXT:GMT
PRODID:PEAK Corporation - piCal -
X-WR-CALNAME;VALUE=TEXT:アントニオ猪木　闘魂トーク ＬＩＶＥ50　チケット販売開始
VERSION:2.0
METHOD:PUBLISH
BEGIN:VTIMEZONE
TZID:GMT
BEGIN:STANDARD
DTSTART:19390101T000000
TZOFFSETFROM:+0000
TZOFFSETTO:+0000
TZNAME:GMT
END:STANDARD
END:VTIMEZONE
BEGIN:VEVENT
DTSTART;VALUE=DATE:20100522
DTEND;VALUE=DATE:20100523
LOCATION:
TRANSP:OPAQUE
SEQUENCE:0
UID:pical060-cc9a3ac3f30d366a8efccdab19284af5
DTSTAMP:20180816T012850Z
CATEGORIES:チケット,整理券,著名人,芸能人
DESCRIPTION:　\n<b>アントニオ猪木デビュー50周年特別企画「闘魂トークＬＩＶＥ50」	</b>\n\n■日時／2010年7月26日（月）　18:00開場　19:00開演\n\n■会場／函館市民会館\n\n■料金／5,000円（指定席）\n\n■発売／5月22日（土）販売開始\n　　　　　　　ローソンチケット（L：12174）　チケットぴあ（P:617-044）\n\n　\n\n\n\n　\n　\n
SUMMARY:アントニオ猪木　闘魂トーク ＬＩＶＥ50　チケット販売開始
PRIORITY:0
CLASS:PUBLIC
END:VEVENT
END:VCALENDAR
