BEGIN:VCALENDAR
CALSCALE:GREGORIAN
X-WR-TIMEZONE;VALUE=TEXT:GMT
PRODID:PEAK Corporation - piCal -
X-WR-CALNAME;VALUE=TEXT:コンサドーレ札幌－愛媛FC　チケット販売開始
VERSION:2.0
METHOD:PUBLISH
BEGIN:VTIMEZONE
TZID:GMT
BEGIN:STANDARD
DTSTART:19390101T000000
TZOFFSETFROM:+0000
TZOFFSETTO:+0000
TZNAME:GMT
END:STANDARD
END:VTIMEZONE
BEGIN:VEVENT
DTSTART;VALUE=DATE:20100417
DTEND;VALUE=DATE:20100418
LOCATION:
TRANSP:OPAQUE
SEQUENCE:1
UID:pical060-d960523d83aca1152dbe966a543f4c52
DTSTAMP:20100413T011808Z
CATEGORIES:チケット,整理券,スポーツ
DESCRIPTION: 　\n<b>コンサドーレ札幌－愛媛FC　2010Ｊリーグ ディビジョン2　第17節</b>\n\n■日時／2010年6月13日（日）　13:00キックオフ\n\n■会場／<a href="http://www.google.co.jp/search?q=%E5%87%BD%E9%A4%A8%E5%B8%82%E5%8D%83%E4%BB%A3%E5%8F%B0%E5%85%AC%E5%9C%92%E9%99%B8%E4%B8%8A%E7%AB%B6%E6%8A%80%E5%A0%B4&amp;ie=utf-8&amp;oe=utf-8&amp;aq=t&amp;rls=org.mozilla:ja:official&amp;hl=ja&amp;client=firefox-a" target="_blank">函館市千代台公園陸上競技場</a>\n\n■チケット／4月17日販売開始\n\n■詳細／<a href="http://www.consadole-sapporo.jp/ticket/" target="_blank">CONSADOLE SAPPORO OFFICIAL SITE</a>\n\nSS指定席4,000円\nSA自由席大人前売り2,800円（当日3,000円）\nSB自由席大人 2,300円（2,500円\nB自由席・ビジター大人1,800円（2,000円）\n学生自由席1,000円・小中自由席500円\n　\n　\n　\n\n\n\n
SUMMARY:コンサドーレ札幌－愛媛FC　チケット販売開始
PRIORITY:0
CLASS:PUBLIC
END:VEVENT
END:VCALENDAR
