BEGIN:VCALENDAR
CALSCALE:GREGORIAN
X-WR-TIMEZONE;VALUE=TEXT:GMT
PRODID:PEAK Corporation - piCal -
X-WR-CALNAME;VALUE=TEXT:ハンドメイドマーケット
VERSION:2.0
METHOD:PUBLISH
BEGIN:VTIMEZONE
TZID:GMT
BEGIN:STANDARD
DTSTART:19390101T000000
TZOFFSETFROM:+0000
TZOFFSETTO:+0000
TZNAME:GMT
END:STANDARD
END:VTIMEZONE
BEGIN:VEVENT
DTSTART:20100417T010000Z
DTEND:20100418T090000Z
LOCATION:
TRANSP:OPAQUE
SEQUENCE:1
UID:pical060-9a91e3aec8a615583b9df0d3bc3584a1
DTSTAMP:20100415T084204Z
CATEGORIES:即売会,バザー,フリマ
DESCRIPTION:　\n<b>第2回ハンドメイドマーケット</b>\n\n■日時／2010年4月17日(土)～4月18日(日)　両日10:00～18:00\n\n■会場／<a href="http://www.polestar-web.jp/access/index.html" target="_blank">ポールスター1F イベントスペース</a>\n\n■出店数／22\n\n■詳細／<a href="http://handmademarket.web.fc2.com/event.html" target="_blank">函館ハンドメイドマーケット</a>\n　\n　\n 
SUMMARY:ハンドメイドマーケット
PRIORITY:0
CLASS:PUBLIC
END:VEVENT
END:VCALENDAR
