BEGIN:VCALENDAR
CALSCALE:GREGORIAN
X-WR-TIMEZONE;VALUE=TEXT:GMT
PRODID:PEAK Corporation - piCal -
X-WR-CALNAME;VALUE=TEXT:新緑の季節のハワイアンダンスを生演奏でご覧下さい
VERSION:2.0
METHOD:PUBLISH
BEGIN:VTIMEZONE
TZID:GMT
BEGIN:STANDARD
DTSTART:19390101T000000
TZOFFSETFROM:+0000
TZOFFSETTO:+0000
TZNAME:GMT
END:STANDARD
END:VTIMEZONE
BEGIN:VEVENT
DTSTART:20100523T050000Z
DTEND:20100523T060000Z
LOCATION:五稜郭タワー1Fアトリウム
TRANSP:OPAQUE
SEQUENCE:0
UID:pical060-1f1bc6e11ec1de72022ea3c5bc29ba15
DTSTAMP:20180312T063352Z
CATEGORIES:音楽,芸術,文化,演奏会,発表会
DESCRIPTION:\n<b><span style="font-size: large;"><span style="color: #FF6633;"><span style="font-family: Georgia;">なつかしの歌曲とハワイアンダンスのひととき</span></span></span></b>\n\nハワイアンバンド「ファイブエコーズ」の生演奏による日本歌謡の世界と、市内で活動する「ナニラニ・オ・マイレ本間　星川教室」の生徒の方々によるハワイアンダンスをお楽しみください。\n\n日時 : 2010年4月24日(土)～5/16(日) 各8:00～19:00 (5/1～5は20:00まで)\n会場：<a href="http://www.goryokaku-tower.co.jp/" target="_blank">五稜郭タワー1Fアトリウム</a>\n<b><span style="color: #0033CC;">入場無料</span></b>\n主催 : ハワイアンバンド　ファイブエコーズ、マイレ本間　星川教室\nお問い合わせ : Tel.0138-46-7181(担当 : 大上)\n\n\n\n\n
SUMMARY:新緑の季節のハワイアンダンスを生演奏でご覧下さい
PRIORITY:0
CLASS:PUBLIC
END:VEVENT
END:VCALENDAR
