BEGIN:VCALENDAR
CALSCALE:GREGORIAN
X-WR-TIMEZONE;VALUE=TEXT:GMT
PRODID:PEAK Corporation - piCal -
X-WR-CALNAME;VALUE=TEXT:南極の氷とブルーインパルス
VERSION:2.0
METHOD:PUBLISH
BEGIN:VTIMEZONE
TZID:GMT
BEGIN:STANDARD
DTSTART:19390101T000000
TZOFFSETFROM:+0000
TZOFFSETTO:+0000
TZNAME:GMT
END:STANDARD
END:VTIMEZONE
BEGIN:VEVENT
DTSTART:20100501T043000Z
DTEND:20100502T080000Z
LOCATION:
TRANSP:OPAQUE
SEQUENCE:0
UID:pical060-90ab7caffa27d3f6b54d0673f25dad02
DTSTAMP:20100422T085347Z
CATEGORIES:お祭り等のイベント,その他
DESCRIPTION:　\n<b>南極の氷とブルーインパルス</b>\n\n\n■日時／2010年5月1日（土）～5月2日（日）　13:30～17:00\n\n■会場／<a href="http://www.polestar-web.jp/" target="_blank">ポールスターショッピングセンター</a>\n　\n・南極の氷を展示\n・ブルーインパルス　ミニ制服撮影会\n　　自衛隊ミニ制服＆ミニパイロットスーツの試着\n　\n　\n\n\n　\n
SUMMARY:南極の氷とブルーインパルス
PRIORITY:0
CLASS:PUBLIC
END:VEVENT
END:VCALENDAR
