BEGIN:VCALENDAR
CALSCALE:GREGORIAN
X-WR-TIMEZONE;VALUE=TEXT:GMT
PRODID:PEAK Corporation - piCal -
X-WR-CALNAME;VALUE=TEXT:Orchestre D' Harmonie 函館ドルフィンズ　定期演奏会
VERSION:2.0
METHOD:PUBLISH
BEGIN:VTIMEZONE
TZID:GMT
BEGIN:STANDARD
DTSTART:19390101T000000
TZOFFSETFROM:+0000
TZOFFSETTO:+0000
TZNAME:GMT
END:STANDARD
END:VTIMEZONE
BEGIN:VEVENT
DTSTART:20100523T000000Z
DTEND:20100523T080000Z
LOCATION:
TRANSP:OPAQUE
SEQUENCE:0
UID:pical060-41010a670608ccb24131fed786c7a759
DTSTAMP:20180816T014653Z
CATEGORIES:チケット,整理券,音楽,芸術,文化,演奏会
DESCRIPTION:　\n<b><span style="font-size: medium;">Orchestre D&#039; Harmonie 函館ドルフィンズ　第13回定期演奏会</span></b>\n\n■日時／2010年5月23日（日）　17:30開場　18:00開演　20:00終了\n\n■会場／函館市民会館\n\n■料金\n　一般指定席800円　小学生以下指定席500円\n　一般自由席600円　小学生以下自由席無料\n　当日券は各200円増し\n\n■販売／ヤマハ・市民会館（指定席・自由席）、松柏堂プレイガイド（自由席のみ）\n　\n　\n　\n<a href="http://wwwb.ncv.ne.jp/~sun-road/index.html" target="_blank">Orchestre D&#039; Harmonie 函館ドルフィンズ</a>　<span style="color: #FF0000;">（音注意！）</span>\n　\n　\n
SUMMARY:Orchestre D' Harmonie 函館ドルフィンズ　定期演奏会
PRIORITY:0
CLASS:PUBLIC
END:VEVENT
END:VCALENDAR
