BEGIN:VCALENDAR
CALSCALE:GREGORIAN
X-WR-TIMEZONE;VALUE=TEXT:GMT
PRODID:PEAK Corporation - piCal -
X-WR-CALNAME;VALUE=TEXT:フラメンコ
VERSION:2.0
METHOD:PUBLISH
BEGIN:VTIMEZONE
TZID:GMT
BEGIN:STANDARD
DTSTART:19390101T000000
TZOFFSETFROM:+0000
TZOFFSETTO:+0000
TZNAME:GMT
END:STANDARD
END:VTIMEZONE
BEGIN:VEVENT
DTSTART:20100501T070000Z
DTEND:20100501T090000Z
LOCATION:
TRANSP:OPAQUE
SEQUENCE:0
UID:pical060-dc5a9f2199c6106d8608c3513ec11061
DTSTAMP:20100430T022331Z
CATEGORIES:音楽,芸術,文化,演奏会
DESCRIPTION:　\n<b><span style="font-size: medium;">フラメンコ</span></b>\n\n■日時／2010年5月1日（土）　①16:00　②17:00\n\n■会場／喫茶 想苑（そうえん）\n\n■料金／各部2,000円（1drink付）  通し3,000円(1drink付)\n\n■詳細／<a href="http://www003.upp.so-net.ne.jp/FlamencoLORCA/" target="_blank">http://www003.upp.so-net.ne.jp/FlamencoLORCA/</a>\n\n\n\nピアノ：<a href="http://www16.plala.or.jp/andrew4088/" target="_blank">安藤紀子</a>\nギター：高木潤一\n踊り：渡辺倫子、永倉麻貴 \n　\n　\n\n\n
SUMMARY:フラメンコ
PRIORITY:0
CLASS:PUBLIC
END:VEVENT
END:VCALENDAR
