BEGIN:VCALENDAR
CALSCALE:GREGORIAN
X-WR-TIMEZONE;VALUE=TEXT:GMT
PRODID:PEAK Corporation - piCal -
X-WR-CALNAME;VALUE=TEXT:恵山つつじまつり
VERSION:2.0
METHOD:PUBLISH
BEGIN:VTIMEZONE
TZID:GMT
BEGIN:STANDARD
DTSTART:19390101T000000
TZOFFSETFROM:+0000
TZOFFSETTO:+0000
TZNAME:GMT
END:STANDARD
END:VTIMEZONE
BEGIN:VEVENT
DTSTART:20100523T010000Z
DTEND:20100523T060000Z
LOCATION:
TRANSP:OPAQUE
SEQUENCE:1
UID:pical060-ceca28b8a53f08ce7b9c437f11ca855c
DTSTAMP:20100506T093411Z
CATEGORIES:お祭り等のイベント,即売会,バザー,フリマ,著名人,芸能人
DESCRIPTION:　\n<b><span style="font-size: medium;">第42回恵山つつじまつり</span></b>\n\n■日時／2010年5月23日（日）　10:00～15:00\n\n■会場／<a href="http://maps.google.co.jp/maps?f=q&amp;source=s_q&amp;hl=ja&amp;geocode=&amp;q=(41.79294454470473,+141.15170001983643)&amp;sll=41.792945,141.1517&amp;sspn=0.011519,0.02281&amp;brcurrent=3,0x5f9e65eb008cf02b:0x792377826c2bc255,0&amp;ie=UTF8&amp;z=15&amp;iwloc=A" target="_blank">恵山山麓</a>\n\n■詳細／<a href="http://www.city.hakodate.hokkaido.jp/esan/html/kanko/ivent/tutuji/2010/ivent.tutuji2010-naiyo.htm" target="_blank">函館市恵山支所：該当ページ</a>\n\n\n\n◎海の幸がいっぱい「海鮮特産品即売会」※売り切れ次第終了\n　　・根ボッケ「バキバキ」販売会\n　　・ムラサキウニの殻付き販売\n　　・甘エビ、ツブ　などの販売\n◎飲食コーナー\n◎ポニー乗馬体験（有料：子供1人300円）\n◎天装戦隊「ゴセイジャー」ショー（観覧無料 : 撮影会は有料。）\n◎「ＦＭいるか」公開生放送\n◎「ダンキー」ものまねショー（観覧無料）沢田研二、西城秀樹、北島三郎　ほか\n◎ ○×クイズ大会\n◎ポニー乗馬体験（有料：子供1人300円）\n◎天装戦隊「ゴセイジャー」ショー（観覧無料 : 撮影会は有料。） 　\n　\n　\n　\n　\n
SUMMARY:恵山つつじまつり
PRIORITY:0
CLASS:PUBLIC
END:VEVENT
END:VCALENDAR
