BEGIN:VCALENDAR
CALSCALE:GREGORIAN
X-WR-TIMEZONE;VALUE=TEXT:GMT
PRODID:PEAK Corporation - piCal -
X-WR-CALNAME;VALUE=TEXT:大地の上の３日間
VERSION:2.0
METHOD:PUBLISH
BEGIN:VTIMEZONE
TZID:GMT
BEGIN:STANDARD
DTSTART:19390101T000000
TZOFFSETFROM:+0000
TZOFFSETTO:+0000
TZNAME:GMT
END:STANDARD
END:VTIMEZONE
BEGIN:VEVENT
DTSTART;VALUE=DATE:20100521
DTEND;VALUE=DATE:20100524
LOCATION:
TRANSP:OPAQUE
SEQUENCE:1
UID:pical060-e3af96a6d39d35ad03270ecc4f648570
DTSTAMP:20100520T004717Z
CATEGORIES:お祭り等のイベント
DESCRIPTION:　\n<b><span style="font-size: medium;">大地の上の３日間</span></b>\n\n■日時／2010年5月21日（金）～5月23日（日）\n\n■詳細／<a href="http://www.8space.info/daichi3.html" target="_blank">大地の上の３日間</a>\n\n\n2010/05/21　\n<a href="http://../../modules/EventCal/index.php?smode=Monthly&amp;action=View&amp;event_id=0000006859&amp;caldate=2010-5-23" target="_blank">Ｎ’ＤＡＮＡ展-ten-</a>\n\n2010/05/22\nＡ.女性の心身に働くエッセンスのお話とムーンサイクルヨガ\nＢ.アフリカ太鼓ワークショップ\nＣ.ブードゥーダンスワークショップ\n\n2010/05/23\nＭｏｔｈｅｒ ｅａｒｔｈ-あなたと地球がつながる日\n・第１部（10：00～）　Good morning Yoga\n・第２部（11：00～）  体に優しいスウィーツ等の飲食、雑貨、ワークショップなど\n・第３部（16：00～）　ドキュメンタリー映画　『<a href="http://www.soramori.net/" target="_blank">空想の森</a>』　上映　田代陽子監督のお話会\n\n\n\n\n\n\n\n
SUMMARY:大地の上の３日間
PRIORITY:0
CLASS:PUBLIC
END:VEVENT
END:VCALENDAR
