BEGIN:VCALENDAR
CALSCALE:GREGORIAN
X-WR-TIMEZONE;VALUE=TEXT:GMT
PRODID:PEAK Corporation - piCal -
X-WR-CALNAME;VALUE=TEXT:大間原発に関する講演会
VERSION:2.0
METHOD:PUBLISH
BEGIN:VTIMEZONE
TZID:GMT
BEGIN:STANDARD
DTSTART:19390101T000000
TZOFFSETFROM:+0000
TZOFFSETTO:+0000
TZNAME:GMT
END:STANDARD
END:VTIMEZONE
BEGIN:VEVENT
DTSTART:20100523T043000Z
DTEND:20100523T043000Z
LOCATION:
TRANSP:OPAQUE
SEQUENCE:0
UID:pical060-1b71600be062e4c2e7b5e3c6ade0e9d3
DTSTAMP:20100520T010109Z
CATEGORIES:講演会,セミナー
DESCRIPTION:　\n<b><span style="font-size: medium;">講演：原発はあぶない大間原発はさらにあぶない</span></b>\n\n■日時／2010年5月23日（日）　13:30～\n\n■会場／<a href="http://www.city.hakodate.hokkaido.jp/keizai/roudou/s-refre/index.html" target="_blank">サン・リフレ函館</a>\n\n■料金／500円　高校生以下無料\n\n■講演／<a href="http://www.google.co.jp/search?q=%E4%BA%AC%E9%83%BD%E5%A4%A7%E5%AD%A6%E5%8E%9F%E5%AD%90%E7%82%89%E5%AE%9F%E9%A8%93%E6%89%80%E3%80%80%E5%B0%8F%E5%87%BA%E8%A3%95%E7%AB%A0&amp;ie=utf-8&amp;oe=utf-8&amp;aq=t&amp;rls=org.mozilla:ja:official&amp;hl=ja&amp;client=firefox-a" target="_blank">京都大学原子炉実験所　小出裕章</a> 氏\n\n■主催／<a href="http://ameblo.jp/ooma/" target="_blank">｢大間原発訴訟の会</a>\n　\n　\n
SUMMARY:大間原発に関する講演会
PRIORITY:0
CLASS:PUBLIC
END:VEVENT
END:VCALENDAR
