BEGIN:VCALENDAR
CALSCALE:GREGORIAN
X-WR-TIMEZONE;VALUE=TEXT:GMT
PRODID:PEAK Corporation - piCal -
X-WR-CALNAME;VALUE=TEXT:旧函館博物館1号　一般公開
VERSION:2.0
METHOD:PUBLISH
BEGIN:VTIMEZONE
TZID:GMT
BEGIN:STANDARD
DTSTART:19390101T000000
TZOFFSETFROM:+0000
TZOFFSETTO:+0000
TZNAME:GMT
END:STANDARD
END:VTIMEZONE
BEGIN:VEVENT
DTSTART:20100525T010000Z
DTEND:20100525T060000Z
LOCATION:
TRANSP:OPAQUE
SEQUENCE:0
UID:pical060-880001d3bfb912f0ffe06932389ef304
DTSTAMP:20100524T092426Z
CATEGORIES:
DESCRIPTION:　\n<b><span style="font-size: medium;">旧函館博物館1号　一般公開</span></b>\n\n■日時／2010年5月25日（火）　10:00～15:00　（1日限り）\n\n■会場／<a href="http://maps.google.co.jp/maps?f=q&amp;source=s_q&amp;hl=ja&amp;geocode=&amp;q=(41.75671097270229,+140.71527242660522)&amp;sll=41.756711,140.715272&amp;sspn=0.002993,0.004511&amp;brcurrent=3,0x5f9ef3021ce7c8c1:0x5b803f2512b089ab,0&amp;ie=UTF8&amp;ll=41.756783,140.715289&amp;spn=0.002993,0.004511&amp;z=18&amp;iwloc=near" target="_blank">旧函館博物館1号</a>\n\n■料金／入館無料\n\n■詳細／<a href="http://www.hokkaido-np.co.jp/news/chiiki2/232631.html" target="_blank">開館１３１周年の旧函館博物館１号　１８年ぶり２５日に公開－北海道新聞[道南]</a>\n　\n　\n
SUMMARY:旧函館博物館1号　一般公開
PRIORITY:0
CLASS:PUBLIC
END:VEVENT
END:VCALENDAR
