BEGIN:VCALENDAR
CALSCALE:GREGORIAN
X-WR-TIMEZONE;VALUE=TEXT:GMT
PRODID:PEAK Corporation - piCal -
X-WR-CALNAME;VALUE=TEXT:芸術ホール　オープンギャラリー
VERSION:2.0
METHOD:PUBLISH
BEGIN:VTIMEZONE
TZID:GMT
BEGIN:STANDARD
DTSTART:19390101T000000
TZOFFSETFROM:+0000
TZOFFSETTO:+0000
TZNAME:GMT
END:STANDARD
END:VTIMEZONE
BEGIN:VEVENT
DTSTART;VALUE=DATE:20100806
DTEND;VALUE=DATE:20100808
LOCATION:
TRANSP:OPAQUE
SEQUENCE:0
UID:pical060-c0fb8690f2e54cb9442e294815a010d1
DTSTAMP:20100727T015651Z
CATEGORIES:
DESCRIPTION:\n\n<b><span style="font-size: medium;">\n芸術ホール　オープンギャラリー</span></b>\n\n\n■会場／函館市芸術ホール　（雨天時室内開催）\n\n■料金／無料\n\n　\n　\n\n\n<b><span style="font-size: medium;">真夏のロック</span></b>\n8月6日（金）17:00\n\n\n<b><span style="font-size: medium;">Grapefruit Moon　野外ライブ</span></b>\n8月7日（土）20:00\n\n\n<b><span style="font-size: medium;">DANCE SPACE RIZE HIPHOP SHOW CASE vol.2</span></b>\n8月10日（火）18:00\n\n\n<b><span style="font-size: medium;">ハワイアント･ワイライト</span></b>\n8月10日（火）20:00\n\n\n<b><span style="font-size: medium;">雅楽演奏会</span></b>\n8月19日（木）16:00\n\n\n<b><span style="font-size: medium;">ゴスペルライブ</span></b>\n8月19日（木）19:00\n　\n　\n　\n\n
SUMMARY:芸術ホール　オープンギャラリー
PRIORITY:0
CLASS:PUBLIC
END:VEVENT
END:VCALENDAR
