BEGIN:VCALENDAR
CALSCALE:GREGORIAN
X-WR-TIMEZONE;VALUE=TEXT:GMT
PRODID:PEAK Corporation - piCal -
X-WR-CALNAME;VALUE=TEXT:見学OK　縄文柴犬 交流会
VERSION:2.0
METHOD:PUBLISH
BEGIN:VTIMEZONE
TZID:GMT
BEGIN:STANDARD
DTSTART:19390101T000000
TZOFFSETFROM:+0000
TZOFFSETTO:+0000
TZNAME:GMT
END:STANDARD
END:VTIMEZONE
BEGIN:VEVENT
DTSTART:20100807T030000Z
DTEND:20100807T030000Z
LOCATION:
TRANSP:OPAQUE
SEQUENCE:0
UID:pical060-0320fa48b78b71f32e22adaa92b989e8
DTSTAMP:20100805T095158Z
CATEGORIES:
DESCRIPTION:　\n<b><span style="font-size: medium;">見学OK　縄文柴犬 交流会</span></b>\n\n\n■日時／2010年8月7日（土）12:00～　雨天決行\n\n■会場／<a href="http://maps.google.co.jp/maps?f=q&amp;source=s_q&amp;hl=ja&amp;geocode=&amp;q=%E5%87%BD%E9%A4%A8%E5%B8%82%E9%AB%98%E6%9D%BE%E7%94%BA105&amp;sll=41.776221,140.798402&amp;sspn=0.001306,0.002162&amp;brcurrent=3,0x5f9ef4eb3927b63d:0x610ab7a171f5c279,0&amp;ie=UTF8&amp;hq=&amp;hnear=%E5%8C%97%E6%B5%B7%E9%81%93%E5%87%BD%E9%A4%A8%E5%B8%82%E9%AB%98%E6%9D%BE%E7%94%BA%EF%BC%91%EF%BC%90%EF%BC%95&amp;ll=41.776801,140.796597&amp;spn=0.010849,0.017295&amp;z=16&amp;layer=c&amp;cbll=41.776839,140.796493&amp;panoid=k5KC7ccG59IfBb1Qu5Bs8Q&amp;cbp=12,109.92,,0,-7.78" target="_blank">函館市営ドッグラン</a>\n\n\n　\n　\n\n\n　\n
SUMMARY:見学OK　縄文柴犬 交流会
PRIORITY:0
CLASS:PUBLIC
END:VEVENT
END:VCALENDAR
