BEGIN:VCALENDAR
CALSCALE:GREGORIAN
X-WR-TIMEZONE;VALUE=TEXT:GMT
PRODID:PEAK Corporation - piCal -
X-WR-CALNAME;VALUE=TEXT:函館市内 節分行事情報
VERSION:2.0
METHOD:PUBLISH
BEGIN:VTIMEZONE
TZID:GMT
BEGIN:STANDARD
DTSTART:19390101T000000
TZOFFSETFROM:+0000
TZOFFSETTO:+0000
TZNAME:GMT
END:STANDARD
END:VTIMEZONE
BEGIN:VEVENT
DTSTART;VALUE=DATE:20110203
DTEND;VALUE=DATE:20110204
LOCATION:
TRANSP:OPAQUE
SEQUENCE:1
UID:pical060-3847e775de27f41f248bed844eda79a4
DTSTAMP:20110129T085716Z
CATEGORIES:
DESCRIPTION:　\n<b><span style="font-size: medium;">函館市内 節分行事情報</span></b>\n　\n　\n■日時／2011年2月3日\n\n\n\n\n13:30　<a href="http://maps.google.co.jp/maps?f=q&amp;source=s_q&amp;hl=ja&amp;geocode=&amp;q=%E5%87%BD%E9%A4%A8%E5%B8%82%E3%80%80%E5%A6%99%E5%BF%83%E5%AF%BA&amp;aq=&amp;sll=41.773872,140.72525&amp;sspn=0.268844,0.519791&amp;brcurrent=3,0x5f9ef2e4a17dc8e3:0x42d8816a2b6814ce,0&amp;ie=UTF8&amp;hq=%E5%A6%99%E5%BF%83%E5%AF%BA&amp;hnear=%E5%8C%97%E6%B5%B7%E9%81%93%E5%87%BD%E9%A4%A8%E5%B8%82&amp;ll=41.751969,140.709404&amp;spn=0.004202,0.008122&amp;z=17&amp;iwloc=A" target="_blank">妙心寺</a>　豆まき　（豆まきの前に水行、祈祷が有ります）　\n\n14:00　<a href="http://maps.google.co.jp/maps?f=q&amp;source=s_q&amp;hl=ja&amp;geocode=&amp;q=%E5%87%BD%E9%A4%A8%E5%B8%82%E3%80%80%E6%B0%B8%E5%85%A8%E5%AF%BA&amp;aq=&amp;sll=41.759027,140.719033&amp;sspn=0.023209,0.037594&amp;brcurrent=3,0x5f9e5c2dd5bc4d21:0x917d7d2a9678c35b,0&amp;ie=UTF8&amp;hq=%E6%B0%B8%E5%85%A8%E5%AF%BA&amp;hnear=%E5%8C%97%E6%B5%B7%E9%81%93%E5%87%BD%E9%A4%A8%E5%B8%82&amp;ll=41.834526,140.719414&amp;spn=0.134295,0.259895&amp;z=12&amp;iwloc=A" target="_blank">永全寺</a>　饅頭＆豆まき　（13:00祈祷）\n\n15:00　<a href="http://maps.google.co.jp/maps?f=q&amp;source=s_q&amp;hl=ja&amp;geocode=&amp;q=%E5%87%BD%E9%A4%A8%E5%B8%82%E3%80%80%E5%A4%A9%E7%A5%90%E5%AF%BA&amp;aq=&amp;sll=41.769263,140.72937&amp;sspn=1.485125,2.406006&amp;g=%E5%87%BD%E9%A4%A8%E5%B8%82&amp;brcurrent=3,0x5f9e5c2dd5bc4d21:0x917d7d2a9678c35b,0&amp;ie=UTF8&amp;hq=%E5%A4%A9%E7%A5%90%E5%AF%BA&amp;hnear=%E5%8C%97%E6%B5%B7%E9%81%93%E5%87%BD%E9%A4%A8%E5%B8%82&amp;z=15&amp;iwloc=A" target="_blank">天祐寺</a>　豆＆餅まき　（14:00節分祭）\n\n16:00　<a href="http://maps.google.co.jp/maps?f=q&amp;source=s_q&amp;hl=ja&amp;geocode=&amp;q=%E5%87%BD%E9%A4%A8%E5%B8%82%E3%80%80%E5%A4%A7%E6%A3%AE%E7%A8%B2%E8%8D%B7%E7%A5%9E%E7%A4%BE&amp;aq=&amp;sll=41.751969,140.709404&amp;sspn=0.004202,0.008122&amp;brcurrent=3,0x5f9ef374c90ec96f:0x567a18700c2d6ac3,0&amp;ie=UTF8&amp;hq=%E5%A4%A7%E6%A3%AE%E7%A8%B2%E8%8D%B7%E7%A5%9E%E7%A4%BE&amp;hnear=%E5%8C%97%E6%B5%B7%E9%81%93%E5%87%BD%E9%A4%A8%E5%B8%82&amp;ll=41.769679,140.737309&amp;spn=0.016804,0.032487&amp;z=15&amp;iwloc=A" target="_blank">大森稲荷神社</a>　福引券付き豆まき\n\n18:00　<a href="http://maps.google.co.jp/maps?f=q&amp;source=s_q&amp;hl=ja&amp;geocode=&amp;q=%E5%87%BD%E9%A4%A8%E5%B8%82%E3%80%80%E7%A7%B0%E5%BF%B5%E5%AF%BA&amp;aq=&amp;sll=41.786161,140.809364&amp;sspn=0.134397,0.259895&amp;brcurrent=3,0x5f9e5c2dd5bc4d21:0x917d7d2a9678c35b,0&amp;ie=UTF8&amp;hq=%E7%A7%B0%E5%BF%B5%E5%AF%BA&amp;hnear=%E5%8C%97%E6%B5%B7%E9%81%93%E5%87%BD%E9%A4%A8%E5%B8%82&amp;ll=41.952341,140.95459&amp;spn=0.536187,1.039581&amp;z=10&amp;iwloc=A" target="_blank">称念寺</a>　クジ付き豆まき\n\n18:00　<a href="http://maps.google.co.jp/maps?f=q&amp;source=s_q&amp;hl=ja&amp;geocode=&amp;q=%E5%87%BD%E9%A4%A8%E5%B8%82%E3%80%80%E9%AB%98%E7%A9%82%E7%A5%9E%E7%A4%BE&amp;aq=&amp;sll=41.834526,140.719414&amp;sspn=0.134295,0.259895&amp;brcurrent=3,0x5f9e5c2dd5bc4d21:0x917d7d2a9678c35b,0&amp;ie=UTF8&amp;hq=%E9%AB%98%E7%A9%82%E7%A5%9E%E7%A4%BE&amp;hnear=%E5%8C%97%E6%B5%B7%E9%81%93%E5%87%BD%E9%A4%A8%E5%B8%82&amp;ll=41.786161,140.809364&amp;spn=0.134397,0.259895&amp;z=12&amp;iwloc=A" target="_blank">高穂神社</a>　豆＆餅まき　（9:00水ごり）\n\n\n\n\n　\n　\n　\n
SUMMARY:函館市内 節分行事情報
PRIORITY:0
CLASS:PUBLIC
END:VEVENT
END:VCALENDAR
