BEGIN:VCALENDAR
CALSCALE:GREGORIAN
X-WR-TIMEZONE;VALUE=TEXT:GMT
PRODID:PEAK Corporation - piCal -
X-WR-CALNAME;VALUE=TEXT:在日韓国人が語る日韓併合
VERSION:2.0
METHOD:PUBLISH
BEGIN:VTIMEZONE
TZID:GMT
BEGIN:STANDARD
DTSTART:19390101T000000
TZOFFSETFROM:+0000
TZOFFSETTO:+0000
TZNAME:GMT
END:STANDARD
END:VTIMEZONE
BEGIN:VEVENT
DTSTART:20110211T010000Z
DTEND:20110211T010000Z
LOCATION:
TRANSP:OPAQUE
SEQUENCE:0
UID:pical060-c213ae71c7722e1c35cecf0c53646381
DTSTAMP:20110203T021917Z
CATEGORIES:
DESCRIPTION:　\n<b><span style="font-size: medium;">日韓併合100年をふりかえる ～東アジアの平和と共生のために～</span></b>\n\n\n■日時／2011年2月11日（金･祝）10:00～\n\n■会場／函館市民会館\n\n■料金／入場無料　申込不要\n\n■講師／七飯町在住在日韓国人\n\n\n\n\n\n注：日韓併合に関する歴史的事実関係は有識者間でも一致していないと言われています。　貴方の知識に反する発言が有ってもご静聴願います。\n\n\n参考：<a href="http://chiebukuro.search.yahoo.co.jp/search?p=%E6%97%A5%E9%9F%93%E4%BD%B5%E5%90%88&amp;flg=3&amp;fr=common-navi&amp;dnum=2078297837" target="_blank">「日韓併合」の検索結果 - Yahoo!知恵袋</a>　\n　\n　\n　\n\n　\n\n
SUMMARY:在日韓国人が語る日韓併合
PRIORITY:0
CLASS:PUBLIC
END:VEVENT
END:VCALENDAR
