BEGIN:VCALENDAR
CALSCALE:GREGORIAN
X-WR-TIMEZONE;VALUE=TEXT:GMT
PRODID:PEAK Corporation - piCal -
X-WR-CALNAME;VALUE=TEXT:コスプレ3days　コスプレしなイカin函館11
VERSION:2.0
METHOD:PUBLISH
BEGIN:VTIMEZONE
TZID:GMT
BEGIN:STANDARD
DTSTART:19390101T000000
TZOFFSETFROM:+0000
TZOFFSETTO:+0000
TZNAME:GMT
END:STANDARD
END:VTIMEZONE
BEGIN:VEVENT
DTSTART:20110211T023000Z
DTEND:20110213T090000Z
LOCATION:
TRANSP:OPAQUE
SEQUENCE:0
UID:pical060-bb60265aa268a72f639a1930a8e209fc
DTSTAMP:20170617T020746Z
CATEGORIES:お祭り等のイベント
DESCRIPTION:　\n<b><span style="font-size: medium;">コスプレしなイカin函館11</span></b>\n　\n\n■日時／2011年2月11日（金･祝）～2月13日（日）\n\n■会場／ＷＡＫＯビル７階 (旧)レインボーホール\n\n■詳細／<a href="http://www.hako-pro.com/cosplay-sinaika/top.html" target="_blank">函館コスプレイベント『コスプレしなイカ』公式サイト</a>　・　<a href="http://www.hako-pro.com/cosplay-sinaika/k/index.html" target="_blank">携帯サイトはコチラ</a>\n　\n　\n\n　\n　\n　\n
SUMMARY:コスプレ3days　コスプレしなイカin函館11
PRIORITY:0
CLASS:PUBLIC
END:VEVENT
END:VCALENDAR
