BEGIN:VCALENDAR
CALSCALE:GREGORIAN
X-WR-TIMEZONE;VALUE=TEXT:GMT
PRODID:PEAK Corporation - piCal -
X-WR-CALNAME;VALUE=TEXT:スケート場　イベントデー
VERSION:2.0
METHOD:PUBLISH
BEGIN:VTIMEZONE
TZID:GMT
BEGIN:STANDARD
DTSTART:19390101T000000
TZOFFSETFROM:+0000
TZOFFSETTO:+0000
TZNAME:GMT
END:STANDARD
END:VTIMEZONE
BEGIN:VEVENT
DTSTART:20130127T020000Z
DTEND:20130127T030000Z
LOCATION:
TRANSP:OPAQUE
SEQUENCE:1
UID:pical060-a633e7343ba1ea1499845121af67c93c
DTSTAMP:20130124T085812Z
CATEGORIES:お祭り等のイベント,スポーツ
DESCRIPTION:　\n<b><span style="font-size: medium;">スケート場　イベントデー</span></b>\n\n\n■詳細／<a href="http://www.zaidan-hakodate.com/okugai/skate/eventday.html" target="_blank">【函館市民スケート場】 函館市文化・スポーツ振興財団</a>\n\n■過去の様子／<a href="http://tpf.jp/modules/EventRev/details.php?bid=14" target="_blank">函館市民スケート場イベントデー - TownPathFinder</a>\n　\n　\n　
SUMMARY:スケート場　イベントデー
PRIORITY:0
CLASS:PUBLIC
END:VEVENT
END:VCALENDAR
