BEGIN:VCALENDAR
CALSCALE:GREGORIAN
X-WR-TIMEZONE;VALUE=TEXT:GMT
PRODID:PEAK Corporation - piCal -
X-WR-CALNAME;VALUE=TEXT:格闘技　BOUT12 函館大会
VERSION:2.0
METHOD:PUBLISH
BEGIN:VTIMEZONE
TZID:GMT
BEGIN:STANDARD
DTSTART:19390101T000000
TZOFFSETFROM:+0000
TZOFFSETTO:+0000
TZNAME:GMT
END:STANDARD
END:VTIMEZONE
BEGIN:VEVENT
DTSTART:20120701T090000Z
DTEND:20120701T090000Z
LOCATION:
TRANSP:OPAQUE
SEQUENCE:0
UID:pical060-fb0d0f2ba66ebe2d545de45329a49be5
DTSTAMP:20120626T080113Z
CATEGORIES:チケット,整理券,スポーツ
DESCRIPTION:　\n<b><span style="font-size: medium;">BOUT12 函館大会</span></b>\n\n\n■日時／2012年7月1日（日）　18:00～\n\n■会場／<a href="http://www.49-4111.jp/detail.html" target="_blank">函館総合卸センター流通ホール</a>\n　\n■詳細／<a href="http://bout.main.jp/" target="_blank">http://bout.main.jp/</a>\n　\n　\n　\n　\n
SUMMARY:格闘技　BOUT12 函館大会
PRIORITY:0
CLASS:PUBLIC
END:VEVENT
END:VCALENDAR
