BEGIN:VCALENDAR
CALSCALE:GREGORIAN
X-WR-TIMEZONE;VALUE=TEXT:GMT
PRODID:PEAK Corporation - piCal -
X-WR-CALNAME;VALUE=TEXT:オータムコンサート in 函館空港
VERSION:2.0
METHOD:PUBLISH
BEGIN:VTIMEZONE
TZID:GMT
BEGIN:STANDARD
DTSTART:19390101T000000
TZOFFSETFROM:+0000
TZOFFSETTO:+0000
TZNAME:GMT
END:STANDARD
END:VTIMEZONE
BEGIN:VEVENT
DTSTART:20120902T053000Z
DTEND:20120902T060000Z
LOCATION:
TRANSP:OPAQUE
SEQUENCE:0
UID:pical060-1e3b5278c1bb56ebccadc4a7e29ed359
DTSTAMP:20120824T094856Z
CATEGORIES:音楽,芸術,文化
DESCRIPTION:　\n<b><span style="font-size: medium;">オータムコンサート in 函館空港</span></b>\n\n\n■日時／2012年9月2日（日）　14:30～15:00頃\n\n■会場／函館空港国内線ターミナル２階催事場\n\n■料金／／無料\n\n■出演／ハート音楽院アンサンブル\n\n■詳細／<a href="http://www.hakodate-kankou.com/photo/topics/index.html" target="_blank">函館市写真歴史館　お知らせ</a>\n　\n　\n　
SUMMARY:オータムコンサート in 函館空港
PRIORITY:0
CLASS:PUBLIC
END:VEVENT
END:VCALENDAR
