BEGIN:VCALENDAR
CALSCALE:GREGORIAN
X-WR-TIMEZONE;VALUE=TEXT:GMT
PRODID:PEAK Corporation - piCal -
X-WR-CALNAME;VALUE=TEXT:大正10年　函館大火
VERSION:2.0
METHOD:PUBLISH
BEGIN:VTIMEZONE
TZID:Etc/GMT-9
BEGIN:STANDARD
DTSTART:19390101T000000
TZOFFSETFROM:+0900
TZOFFSETTO:+0900
TZNAME:Etc/GMT-9
END:STANDARD
END:VTIMEZONE
BEGIN:VEVENT
DTSTART;TZID=Etc/GMT-9:20090414T090000
DTEND;TZID=Etc/GMT-9:20090414T170000
LOCATION:
TRANSP:OPAQUE
SEQUENCE:2
UID:pical060-00c049c3e1ddd946c67f4c636a9b247f
DTSTAMP:20190427T012143Z
CATEGORIES:その他
DESCRIPTION:　\n<b>■明治10年（1921年）　函館大火</b>\n\n■詳細／<a href="http://www.city.hakodate.hokkaido.jp/soumu/hensan/hakodateshishi/tsuusetsu_03/shishi_05-02/shishi_05-02-07-02-07.htm" target="_blank">「函館市史」通説編3　5編2章7節2-7</a>\n\n■データ\n出火時間　大正10年4月14日　01:15\n出火場所　函館区東川町198番地\n焼失区域　152,830坪\n焼失戸数　2,141戸\n罷災人口　10,996人\n損害総額　17,798,549円\n死　　　者　1人\n鎮火時間　4月14日　07:30\n風　　　速　01:15（8m）　04:00（11m）\n　\n\n\n
SUMMARY:大正10年　函館大火
RRULE:FREQ=YEARLY;INTERVAL=1;BYMONTH=4;WKST=MO
PRIORITY:0
CLASS:PUBLIC
END:VEVENT
END:VCALENDAR
