BEGIN:VCALENDAR
CALSCALE:GREGORIAN
X-WR-TIMEZONE;VALUE=TEXT:GMT
PRODID:PEAK Corporation - piCal -
X-WR-CALNAME;VALUE=TEXT:法要　昭和9年 函館大火　
VERSION:2.0
METHOD:PUBLISH
BEGIN:VTIMEZONE
TZID:Etc/GMT-9
BEGIN:STANDARD
DTSTART:19390101T000000
TZOFFSETFROM:+0900
TZOFFSETTO:+0900
TZNAME:Etc/GMT-9
END:STANDARD
END:VTIMEZONE
BEGIN:VEVENT
DTSTART;TZID=Etc/GMT-9:20100321T090000
DTEND;TZID=Etc/GMT-9:20100321T090000
LOCATION:
TRANSP:OPAQUE
SEQUENCE:5
UID:pical060-9c83778a6d2549eb4f0fc12691a94a74
DTSTAMP:20180803T034154Z
CATEGORIES:その他
DESCRIPTION:　\n<b><span style="font-size: medium;">昭和9年（1934年）　函館大火</span></b>\n\n\n■詳細／<a href="http://www.city.hakodate.hokkaido.jp/soumu/hensan/hakodateshishi/tsuusetsu_03/shishi_05-02/shishi_05-02-07-02-10.htm" target="_blank">「函館市史」通説編3　5編2章7節2-10</a>\n\n■データ\n出火時間　昭和9年3月21日　18:53\n出火場所　函館市住吉町91番地\n焼失区域　4,164㎡\n焼失戸数　2,267世帯\n罷災人口　10,996人\n損害総額　123,918,027円\n死　　　者　2,166人\n鎮火時間　3月22日　06:00\n風　　　速　20m\n　\n\n\n<b>■法要</b>\n■日時／2013年3月21日（木）　8:30受付　9:00開始\n■会場／<a href="http://maps.google.co.jp/maps?f=q&amp;source=s_q&amp;hl=ja&amp;geocode=&amp;q=(41.770985610907736,+140.73964834213257)&amp;sll=41.770986,140.739648&amp;sspn=0.001372,0.00258&amp;brcurrent=3,0x5f9ef374c90ec96f:0x567a18700c2d6ac3,0&amp;ie=UTF8&amp;ll=41.770824,140.739659&amp;spn=0.005489,0.010321&amp;z=17&amp;iwloc=near" target="_blank">函館大火慰霊堂</a>\n※自由参拝は20日～21日の9:30～15:00\n\n<a href="http://fkaidofudo.exblog.jp/8739805" target="_blank">関根要太郎研究室＠はこだて : 函館大火慰霊堂(函館の建築紹介)</a>\n\n\n\n　\n\n　\n　\n\n
SUMMARY:法要　昭和9年 函館大火　
RRULE:FREQ=YEARLY;INTERVAL=1;BYMONTH=3;WKST=MO
PRIORITY:0
CLASS:PUBLIC
END:VEVENT
END:VCALENDAR
