BEGIN:VCALENDAR
CALSCALE:GREGORIAN
X-WR-TIMEZONE;VALUE=TEXT:GMT
PRODID:PEAK Corporation - piCal -
X-WR-CALNAME;VALUE=TEXT:2011年3月11日 14時46分
VERSION:2.0
METHOD:PUBLISH
BEGIN:VTIMEZONE
TZID:Etc/GMT-9
BEGIN:STANDARD
DTSTART:19390101T000000
TZOFFSETFROM:+0900
TZOFFSETTO:+0900
TZNAME:Etc/GMT-9
END:STANDARD
END:VTIMEZONE
BEGIN:VEVENT
DTSTART;TZID=Etc/GMT-9:20120311T144500
DTEND;TZID=Etc/GMT-9:20120311T144500
LOCATION:
TRANSP:OPAQUE
SEQUENCE:4
UID:pical060-7ff6564ef4d919dc5b1c187a652bd1c1
DTSTAMP:20180803T034113Z
CATEGORIES:
DESCRIPTION: \n\n\n \n    <b><span style="font-size: xx-large;">2011年3月11日 14時46分</span></b>\n\n        <a href="http://ja.wikipedia.org/wiki/%E6%9D%B1%E6%97%A5%E6%9C%AC%E5%A4%A7%E9%9C%87%E7%81%BD" target="_blank">東日本大震災 - Wikipedia</a>\n\n\n\n\n\n函館市内4箇所の消防署で、1分間の「追悼サイレン」が発せられます。\n\n　\n　\n\n　\n　\n　\n
SUMMARY:2011年3月11日 14時46分
RRULE:FREQ=YEARLY;INTERVAL=1;BYMONTH=3;WKST=MO
PRIORITY:0
CLASS:PUBLIC
END:VEVENT
END:VCALENDAR
