BEGIN:VCALENDAR
CALSCALE:GREGORIAN
X-WR-TIMEZONE;VALUE=TEXT:GMT
PRODID:PEAK Corporation - piCal -
X-WR-CALNAME;VALUE=TEXT:2台のヴァイオリンとピアノによる演奏会
VERSION:2.0
METHOD:PUBLISH
BEGIN:VTIMEZONE
TZID:GMT
BEGIN:STANDARD
DTSTART:19390101T000000
TZOFFSETFROM:+0000
TZOFFSETTO:+0000
TZNAME:GMT
END:STANDARD
END:VTIMEZONE
BEGIN:VEVENT
DTSTART:20110209T093000Z
DTEND:20110209T093000Z
LOCATION:
TRANSP:OPAQUE
SEQUENCE:0
UID:pical060-4988eba8ee9edd1b51889d1afe672a94
DTSTAMP:20110201T061936Z
CATEGORIES:音楽,芸術,文化,演奏会
DESCRIPTION:\n\n<b><span style="font-size: medium;">Valentine Concert in かなで～る</span></b>\n2台のヴァイオリンとピアノによる演奏会\n\n\n■日時／2011年2月9日（水）18:30\n\n■会場／<a href="http://" target="_blank">北斗市総合文化センター　かなで～る</a>\n\n■料金／500円　中学生以下無料\n　\n　\n　\n
SUMMARY:2台のヴァイオリンとピアノによる演奏会
PRIORITY:0
CLASS:PUBLIC
END:VEVENT
END:VCALENDAR
